BEGIN:VCALENDAR
VERSION:2.0
PRODID:-//DEBORAH FOGAL - ECPv6.15.20//NONSGML v1.0//EN
CALSCALE:GREGORIAN
METHOD:PUBLISH
X-ORIGINAL-URL:https://deborahfogal.com
X-WR-CALDESC:Veranstaltungen im DEBORAH FOGAL
REFRESH-INTERVAL;VALUE=DURATION:PT1H
X-Robots-Tag:noindex
X-PUBLISHED-TTL:PT1H
BEGIN:VTIMEZONE
TZID:Europe/Zurich
BEGIN:DAYLIGHT
TZOFFSETFROM:+0100
TZOFFSETTO:+0200
TZNAME:CEST
DTSTART:20250330T010000
END:DAYLIGHT
BEGIN:STANDARD
TZOFFSETFROM:+0200
TZOFFSETTO:+0100
TZNAME:CET
DTSTART:20251026T010000
END:STANDARD
BEGIN:DAYLIGHT
TZOFFSETFROM:+0100
TZOFFSETTO:+0200
TZNAME:CEST
DTSTART:20260329T010000
END:DAYLIGHT
BEGIN:STANDARD
TZOFFSETFROM:+0200
TZOFFSETTO:+0100
TZNAME:CET
DTSTART:20261025T010000
END:STANDARD
BEGIN:DAYLIGHT
TZOFFSETFROM:+0100
TZOFFSETTO:+0200
TZNAME:CEST
DTSTART:20270328T010000
END:DAYLIGHT
BEGIN:STANDARD
TZOFFSETFROM:+0200
TZOFFSETTO:+0100
TZNAME:CET
DTSTART:20271031T010000
END:STANDARD
END:VTIMEZONE
BEGIN:VEVENT
DTSTART;TZID=Europe/Zurich:20260412T093000
DTEND;TZID=Europe/Zurich:20260412T103000
DTSTAMP:20260424T183204
CREATED:20260325T214413Z
LAST-MODIFIED:20260325T214415Z
UID:9287-1775986200-1775989800@deborahfogal.com
SUMMARY:Musik und Wort Gottesdienst
DESCRIPTION:
URL:https://deborahfogal.com/event/musik-und-wort-gottesdienst/
LOCATION:Reformierte Kirche Russikon\, Kirchgasse 32\, Russikon\, 8332\, Switzerland
END:VEVENT
BEGIN:VEVENT
DTSTART;TZID=Europe/Zurich:20260405T101500
DTEND;TZID=Europe/Zurich:20260405T111500
DTSTAMP:20260424T183204
CREATED:20260325T214215Z
LAST-MODIFIED:20260325T214217Z
UID:9285-1775384100-1775387700@deborahfogal.com
SUMMARY:Festgottesdienst Ostern
DESCRIPTION:
URL:https://deborahfogal.com/event/festgottesdienst-ostern/
LOCATION:Katholische Kirche Tann Rüti\, Kirchenrainstrasse 4\, Tann ZH\, 8632\, Switzerland
END:VEVENT
BEGIN:VEVENT
DTSTART;TZID=Europe/Zurich:20260404T220000
DTEND;TZID=Europe/Zurich:20260404T230000
DTSTAMP:20260424T183204
CREATED:20260325T214037Z
LAST-MODIFIED:20260325T214040Z
UID:9283-1775340000-1775343600@deborahfogal.com
SUMMARY:Gottesdienst Osternacht mit den NM4
DESCRIPTION:
URL:https://deborahfogal.com/event/gottesdienst-osternacht-mit-den-nm4/
LOCATION:Kirche Neumünster\, Neumünsterstrasse 10\, Zürich\, Zürich\, 8008\, Switzerland
END:VEVENT
BEGIN:VEVENT
DTSTART;TZID=Europe/Zurich:20260404T110000
DTEND;TZID=Europe/Zurich:20260404T120000
DTSTAMP:20260424T183204
CREATED:20260325T213824Z
LAST-MODIFIED:20260325T213826Z
UID:9275-1775300400-1775304000@deborahfogal.com
SUMMARY:Ineichens Barockgarage Klassik
DESCRIPTION:https://www.garagewetzikon.ch
URL:https://deborahfogal.com/event/ineichens-barockgarage-klassik/
LOCATION:Garage Wetzikon\, Bahnhofstrasse 24\, Wetzikon / ZH\, Zürich\, 8620
ATTACH;FMTTYPE=image/png:https://deborahfogal.com/wp-content/uploads/2026/03/Bildschirmfoto-2026-03-25-um-22.32.48.png
END:VEVENT
BEGIN:VEVENT
DTSTART;TZID=Europe/Zurich:20260125T170000
DTEND;TZID=Europe/Zurich:20260125T180000
DTSTAMP:20260424T183204
CREATED:20251127T111211Z
LAST-MODIFIED:20251127T111213Z
UID:9108-1769360400-1769364000@deborahfogal.com
SUMMARY:Spanisch? Romantisch!
DESCRIPTION:Das FMVQ führt mit Rebecca Ineichen am Klavier Werke von Schumann und von Herzogenberg auf.
URL:https://deborahfogal.com/event/spanisch-romantisch/
LOCATION:Baronenhaus Wil\, Marktgasse 73\, 9500 Wil\, St. Gallen\, 9500\, Switzerland
ATTACH;FMTTYPE=image/png:https://deborahfogal.com/wp-content/uploads/2025/11/Bildschirmfoto-2025-11-27-um-12.00.32.png
END:VEVENT
END:VCALENDAR