BEGIN:VCALENDAR
VERSION:2.0
PRODID:-//DEBORAH FOGAL - ECPv6.15.20//NONSGML v1.0//EN
CALSCALE:GREGORIAN
METHOD:PUBLISH
X-WR-CALNAME:DEBORAH FOGAL
X-ORIGINAL-URL:https://deborahfogal.com
X-WR-CALDESC:Veranstaltungen im DEBORAH FOGAL
REFRESH-INTERVAL;VALUE=DURATION:PT1H
X-Robots-Tag:noindex
X-PUBLISHED-TTL:PT1H
BEGIN:VTIMEZONE
TZID:Europe/Zurich
BEGIN:DAYLIGHT
TZOFFSETFROM:+0100
TZOFFSETTO:+0200
TZNAME:CEST
DTSTART:20250330T010000
END:DAYLIGHT
BEGIN:STANDARD
TZOFFSETFROM:+0200
TZOFFSETTO:+0100
TZNAME:CET
DTSTART:20251026T010000
END:STANDARD
BEGIN:DAYLIGHT
TZOFFSETFROM:+0100
TZOFFSETTO:+0200
TZNAME:CEST
DTSTART:20260329T010000
END:DAYLIGHT
BEGIN:STANDARD
TZOFFSETFROM:+0200
TZOFFSETTO:+0100
TZNAME:CET
DTSTART:20261025T010000
END:STANDARD
BEGIN:DAYLIGHT
TZOFFSETFROM:+0100
TZOFFSETTO:+0200
TZNAME:CEST
DTSTART:20270328T010000
END:DAYLIGHT
BEGIN:STANDARD
TZOFFSETFROM:+0200
TZOFFSETTO:+0100
TZNAME:CET
DTSTART:20271031T010000
END:STANDARD
END:VTIMEZONE
BEGIN:VEVENT
DTSTART;TZID=Europe/Zurich:20260524T100000
DTEND;TZID=Europe/Zurich:20260524T110000
DTSTAMP:20260424T153735
CREATED:20260325T214646Z
LAST-MODIFIED:20260325T214648Z
UID:9289-1779616800-1779620400@deborahfogal.com
SUMMARY:Festgottesdienst mit NM4
DESCRIPTION:
URL:https://deborahfogal.com/event/festgottesdienst-mit-nm4/
LOCATION:Kirche Neumünster\, Neumünsterstrasse 10\, Zürich\, Zürich\, 8008\, Switzerland
END:VEVENT
BEGIN:VEVENT
DTSTART;TZID=Europe/Zurich:20260614T100000
DTEND;TZID=Europe/Zurich:20260614T110000
DTSTAMP:20260424T153735
CREATED:20260325T214847Z
LAST-MODIFIED:20260325T214851Z
UID:9291-1781431200-1781434800@deborahfogal.com
SUMMARY:Nicolai Messe von Hadyn (Kirchenfest)
DESCRIPTION:
URL:https://deborahfogal.com/event/nicolai-messe-von-hadyn-kirchenfest/
LOCATION:Katholische Kirche St. Georgen\, Wiesenstrasse 50\, St. Gallen\, St. Gallen\, 9000
END:VEVENT
BEGIN:VEVENT
DTSTART;TZID=Europe/Zurich:20261224T223000
DTEND;TZID=Europe/Zurich:20261224T233000
DTSTAMP:20260424T153735
CREATED:20260325T215517Z
LAST-MODIFIED:20260325T215519Z
UID:9295-1798151400-1798155000@deborahfogal.com
SUMMARY:Mitternachtsmesse mit Musik von Diabelli
DESCRIPTION:
URL:https://deborahfogal.com/event/mitternachtsmesse-mit-musik-von-diabelli/
LOCATION:Katholische Kirche Eschenbach\, Kirchgass 7\, Eschenbach SG\, 8733\, Switzerland
END:VEVENT
BEGIN:VEVENT
DTSTART;TZID=Europe/Zurich:20261225T110000
DTEND;TZID=Europe/Zurich:20261225T120000
DTSTAMP:20260424T153735
CREATED:20260325T215023Z
LAST-MODIFIED:20260325T215024Z
UID:9293-1798196400-1798200000@deborahfogal.com
SUMMARY:Weihnachtsgottesdienst Nicolai Messe von Hadyn
DESCRIPTION:
URL:https://deborahfogal.com/event/weihnachtsgottesdienst-nicolai-messe-von-hadyn/
LOCATION:Katholische Kirche St. Georgen\, Wiesenstrasse 50\, St. Gallen\, St. Gallen\, 9000
END:VEVENT
END:VCALENDAR